BEGIN:VCALENDAR
VERSION:2.0
PRODID:-//wp-events-plugin.com//5.99912//EN
TZID:Europe/Berlin
X-WR-TIMEZONE:Europe/Berlin
BEGIN:VEVENT
UID:0-919@oberboihingen.albverein.eu
DTSTART;TZID=Europe/Berlin;VALUE=DATE:20260712
DTEND;TZID=Europe/Berlin;VALUE=DATE:20260713
DTSTAMP:20251229T171020Z
URL:https://oberboihingen.albverein.eu/events/zur-lauchertquelle/
SUMMARY:Zur Lauchertquelle
DESCRIPTION:(12 km / 265 hm / 3 ½ Std.)\nWanderführer: Gudrun und Peter K
 leinknecht (07022 676995)
END:VEVENT
BEGIN:VTIMEZONE
TZID:Europe/Berlin
X-LIC-LOCATION:Europe/Berlin
BEGIN:DAYLIGHT
DTSTART:20260329T030000
TZOFFSETFROM:+0100
TZOFFSETTO:+0200
TZNAME:CEST
END:DAYLIGHT
END:VTIMEZONE
END:VCALENDAR