BEGIN:VCALENDAR
VERSION:2.0
PRODID:-//wp-events-plugin.com//5.99912//EN
TZID:Europe/Berlin
X-WR-TIMEZONE:Europe/Berlin
BEGIN:VEVENT
UID:0-936@oberboihingen.albverein.eu
DTSTART;TZID=Europe/Berlin;VALUE=DATE:20260524
DTEND;TZID=Europe/Berlin;VALUE=DATE:20260525
DTSTAMP:20260420T110137Z
URL:https://oberboihingen.albverein.eu/events/zollernalb-erleben/
SUMMARY:Zollernalb erleben
DESCRIPTION:Beurener Heide-Dreifürstenstein-Weilerwaldkopf\n(15 km / 500 h
 m\, 5 h)\nWanderführer: Ute und Jörg Haußmann (07022 63857)
END:VEVENT
BEGIN:VTIMEZONE
TZID:Europe/Berlin
X-LIC-LOCATION:Europe/Berlin
BEGIN:DAYLIGHT
DTSTART:20260329T030000
TZOFFSETFROM:+0100
TZOFFSETTO:+0200
TZNAME:CEST
END:DAYLIGHT
END:VTIMEZONE
END:VCALENDAR