BEGIN:VCALENDAR
VERSION:2.0
PRODID:-//wp-events-plugin.com//5.99912//EN
TZID:Europe/Berlin
X-WR-TIMEZONE:Europe/Berlin
BEGIN:VEVENT
UID:0-929@oberboihingen.albverein.eu
DTSTART;TZID=Europe/Berlin;VALUE=DATE:20260911
DTEND;TZID=Europe/Berlin;VALUE=DATE:20260914
DTSTAMP:20260227T082935Z
URL:https://oberboihingen.albverein.eu/events/wanderwochenende-mit-den-els
 aesser-wanderfreunden/
SUMMARY:Wanderwochenende mit den Elsässer Wanderfreunden
DESCRIPTION:Die OG Oberboihingen des Schwäbischen Albvereins e.V. bietet v
 om 11. bis 13. September ein Wanderwochenende in der reizvollen Region zwi
 schen Bad Urach und Lautertal zusammen mit den Wanderfreunden aus dem Elsa
 ss an. Vereinsmitglieder und Gäste sind gleichermaßen willkommen. An die
 sem Wanderwochenende können deutsch-französische Kontakte gepflegt bzw. 
 geknüpft werden.\n\nFolgendes Programm ist geplant:\n\nFreitag\, 11.9.: A
 nfahrt mit Privat-Pkw (Fahrgemeinschaften) nach Bad Urach – Treffpunkt 1
 0.30 Uhr\, Wanderung über den Uracher Wasserfall zum romantischen Güters
 teiner Wasserfall und durchs Maisental zum Parkplatz (7 km/370 hm). Unterw
 egs ist Rucksackvesper geplant. – Weiterfahrt mit den Autos ins Quartier
 .\n\nSamstag\, 12.9.: Führung im Haupt- und Landesgestüt Marbach\, ansch
 ließend Fahrt mit dem Bähnle nach Kohlstetten und Wanderung über den La
 uterursprung auf den Sternberg\, wo Fernblicke locken. Dort Einkehr im Wan
 derheim. Abstieg übers Katzental nach Gomadingen und weiter über eine al
 btypische Wacholderheide bis zum Quartier in Marbach (13 km/380 hm).\n\nDi
 e Wanderstrecke kann auch auf 9 km/280 hm abgekürzt werden.\n\nSonntag\, 
 13.9.: Fahrt mit dem Pkw zum Parkplatz Schloss Lichtenstein. Kleine Wander
 ung übers Goldloch zum Gießstein\, der einen fantastischen Blick ins Ech
 aztal bietet. Weiter über den Linsenbühl zum Schloss Lichtenstein. Kurze
  Besichtigung vom Schloss. Nach der Wanderung Abschlusseinkehr in Honau 
 –  Heimfahrt ca. 15.00 Uhr.\n\nFür die Übernachtung ist ein Bettenkon
 tingent im Gestütsgasthof Marbach vorgehalten. DZ mit HP und AlbCard sind
  für € 80\,-- pro Person und Nacht erhältlich.\n\nDie Kosten\, die dur
 ch das beschriebene Programm anfallen würden (Führung im Gestütshof\, Z
 ugfahrt und Eintritt Schloss Lichtenstein) sind über die AlbCard abgedeck
 t. Kosten für Mittagseinkehr am Samstag\, Abschlusseinkehr am Sonntag\, G
 etränke\, anteilige Pkw-Fahrtkosten und evtl. anfallende Parkgebühren we
 rden von den Teilnehmern direkt bezahlt.\n\nBitte melden Sie sich bis spä
 testens 17. März bei Fam. Kleinknecht (Tel. 07022/67695) an\, wenn Sie te
 ilnehmen wollen.\n\nFür nähere Fragen zum Hotel\, der Anreise oder den W
 anderungen stehen die Wanderführer Hannelore und Richard Haußmann (Tel. 
 61781) sowie Gudrun und Peter Kleinknecht (Tel. 67695) gerne zur Verfügun
 g.
END:VEVENT
BEGIN:VTIMEZONE
TZID:Europe/Berlin
X-LIC-LOCATION:Europe/Berlin
BEGIN:DAYLIGHT
DTSTART:20260329T030000
TZOFFSETFROM:+0100
TZOFFSETTO:+0200
TZNAME:CEST
END:DAYLIGHT
END:VTIMEZONE
END:VCALENDAR