BEGIN:VCALENDAR
VERSION:2.0
PRODID:-//wp-events-plugin.com//5.99912//EN
TZID:Europe/Berlin
X-WR-TIMEZONE:Europe/Berlin
BEGIN:VEVENT
UID:0-912@oberboihingen.albverein.eu
DTSTART;TZID=Europe/Berlin;VALUE=DATE:20260613
DTEND;TZID=Europe/Berlin;VALUE=DATE:20260615
DTSTAMP:20251229T170652Z
URL:https://oberboihingen.albverein.eu/events/wanderwochenende-im-haertsfe
 ld/
SUMMARY:Wanderwochenende im Härtsfeld
DESCRIPTION:Tagesetappen je ca. 14 km mit 200 hm\nÜbernachtung in Ohmenhei
 m im Landhotel Kanne\nAnmeldung erforderlich\, begrenzte Teilnehmerzahl!\n
 \nWanderführer: Andrea und Gerhard Gebauer (07022 4713)
END:VEVENT
BEGIN:VTIMEZONE
TZID:Europe/Berlin
X-LIC-LOCATION:Europe/Berlin
BEGIN:DAYLIGHT
DTSTART:20260329T030000
TZOFFSETFROM:+0100
TZOFFSETTO:+0200
TZNAME:CEST
END:DAYLIGHT
END:VTIMEZONE
END:VCALENDAR