BEGIN:VCALENDAR
VERSION:2.0
PRODID:-//wp-events-plugin.com//5.99912//EN
TZID:Europe/Berlin
X-WR-TIMEZONE:Europe/Berlin
BEGIN:VEVENT
UID:0-937@oberboihingen.albverein.eu
DTSTART;TZID=Europe/Berlin;VALUE=DATE:20261011
DTEND;TZID=Europe/Berlin;VALUE=DATE:20261012
DTSTAMP:20251229T172102Z
URL:https://oberboihingen.albverein.eu/events/tageswanderung-zur-hohen-war
 te-13/
SUMMARY:Tageswanderung zur Hohen Warte
DESCRIPTION:Wanderführer: Stefano Martella (0171 5116491)
END:VEVENT
BEGIN:VTIMEZONE
TZID:Europe/Berlin
X-LIC-LOCATION:Europe/Berlin
BEGIN:DAYLIGHT
DTSTART:20260329T030000
TZOFFSETFROM:+0100
TZOFFSETTO:+0200
TZNAME:CEST
END:DAYLIGHT
END:VTIMEZONE
END:VCALENDAR