BEGIN:VCALENDAR
VERSION:2.0
PRODID:-//wp-events-plugin.com//5.99912//EN
TZID:Europe/Berlin
X-WR-TIMEZONE:Europe/Berlin
BEGIN:VEVENT
UID:0-941@oberboihingen.albverein.eu
DTSTART;TZID=Europe/Berlin;VALUE=DATE:20261101
DTEND;TZID=Europe/Berlin;VALUE=DATE:20261102
DTSTAMP:20251229T172234Z
URL:https://oberboihingen.albverein.eu/events/tageswanderung-3/
SUMMARY:Tageswanderung
DESCRIPTION:Wanderführer: Stefano Martella (0171 5116491)
END:VEVENT
BEGIN:VTIMEZONE
TZID:Europe/Berlin
X-LIC-LOCATION:Europe/Berlin
BEGIN:STANDARD
DTSTART:20261025T020000
TZOFFSETFROM:+0200
TZOFFSETTO:+0100
TZNAME:CET
END:STANDARD
END:VTIMEZONE
END:VCALENDAR