BEGIN:VCALENDAR
VERSION:2.0
PRODID:-//wp-events-plugin.com//5.99912//EN
TZID:Europe/Berlin
X-WR-TIMEZONE:Europe/Berlin
BEGIN:VEVENT
UID:0-928@oberboihingen.albverein.eu
DTSTART;TZID=Europe/Berlin;VALUE=DATE:20260830
DTEND;TZID=Europe/Berlin;VALUE=DATE:20260831
DTSTAMP:20260420T110500Z
URL:https://oberboihingen.albverein.eu/events/sommerfest-am-und-um-das-wan
 derheim-in-der-rosenstrasse-3/
SUMMARY:Sommerfest am und um das Wanderheim in der Rosenstraße
DESCRIPTION:Sommerfest: Am So.\, 30. August findet wieder das Sommerfest am
  Wanderheim statt. Dafür werden heute schon Helfer gesucht. Wer gerne am 
 Standdienst und/oder beim Auf- und Abbau mithelfen möchte\, darf sich ger
 ne melden.\n\nWer einen Kuchen backen möchte\, darf sich auch melden: Ste
 ffen Schmid\, 07024-8036070
LOCATION:Albvereinsheim Oberboihingen\, Rosenstr. 46\, Oberboihingen\, 7264
 4\, Deutschland
GEO:48.654142;9.370309200000065
X-APPLE-STRUCTURED-LOCATION;VALUE=URI;X-ADDRESS=Rosenstr. 46\, Oberboihinge
 n\, 72644\, Deutschland;X-APPLE-RADIUS=100;X-TITLE=Albvereinsheim Oberboih
 ingen:geo:48.654142,9.370309200000065
END:VEVENT
BEGIN:VTIMEZONE
TZID:Europe/Berlin
X-LIC-LOCATION:Europe/Berlin
BEGIN:DAYLIGHT
DTSTART:20260329T030000
TZOFFSETFROM:+0100
TZOFFSETTO:+0200
TZNAME:CEST
END:DAYLIGHT
END:VTIMEZONE
END:VCALENDAR