BEGIN:VCALENDAR
VERSION:2.0
PRODID:-//wp-events-plugin.com//5.99912//EN
TZID:Europe/Berlin
X-WR-TIMEZONE:Europe/Berlin
BEGIN:VEVENT
UID:0-940@oberboihingen.albverein.eu
DTSTART;TZID=Europe/Berlin;VALUE=DATE:20261028
DTEND;TZID=Europe/Berlin;VALUE=DATE:20261029
DTSTAMP:20260202T155312Z
URL:https://oberboihingen.albverein.eu/events/senioren-siehe-gemeindeblatt
 -8/
SUMMARY:Senioren: Glemser Stausee
DESCRIPTION:Werner Hihn und Helmut Rees
END:VEVENT
BEGIN:VTIMEZONE
TZID:Europe/Berlin
X-LIC-LOCATION:Europe/Berlin
BEGIN:STANDARD
DTSTART:20261025T020000
TZOFFSETFROM:+0200
TZOFFSETTO:+0100
TZNAME:CET
END:STANDARD
END:VTIMEZONE
END:VCALENDAR