BEGIN:VCALENDAR
VERSION:2.0
PRODID:-//wp-events-plugin.com//5.99912//EN
TZID:Europe/Berlin
X-WR-TIMEZONE:Europe/Berlin
BEGIN:VEVENT
UID:0-924@oberboihingen.albverein.eu
DTSTART;TZID=Europe/Berlin;VALUE=DATE:20260729
DTEND;TZID=Europe/Berlin;VALUE=DATE:20260730
DTSTAMP:20260202T155104Z
URL:https://oberboihingen.albverein.eu/events/senioren-siehe-gemeindeblatt
 -5/
SUMMARY:Senioren: Tagesausflug Bad Waldsee
DESCRIPTION:Jürgen Schmid und Wolfgang Stöcker
END:VEVENT
BEGIN:VTIMEZONE
TZID:Europe/Berlin
X-LIC-LOCATION:Europe/Berlin
BEGIN:DAYLIGHT
DTSTART:20260329T030000
TZOFFSETFROM:+0100
TZOFFSETTO:+0200
TZNAME:CEST
END:DAYLIGHT
END:VTIMEZONE
END:VCALENDAR