BEGIN:VCALENDAR
VERSION:2.0
PRODID:-//wp-events-plugin.com//5.99912//EN
TZID:Europe/Berlin
X-WR-TIMEZONE:Europe/Berlin
BEGIN:VEVENT
UID:0-916@oberboihingen.albverein.eu
DTSTART;TZID=Europe/Berlin;VALUE=DATE:20260624
DTEND;TZID=Europe/Berlin;VALUE=DATE:20260625
DTSTAMP:20260202T155040Z
URL:https://oberboihingen.albverein.eu/events/senioren-siehe-gemeindeblatt
 -4/
SUMMARY:Weiler Bouch Remshalden
DESCRIPTION:Werner Hihn\nund Helmut Rees
END:VEVENT
BEGIN:VTIMEZONE
TZID:Europe/Berlin
X-LIC-LOCATION:Europe/Berlin
BEGIN:DAYLIGHT
DTSTART:20260329T030000
TZOFFSETFROM:+0100
TZOFFSETTO:+0200
TZNAME:CEST
END:DAYLIGHT
END:VTIMEZONE
END:VCALENDAR