BEGIN:VCALENDAR
VERSION:2.0
PRODID:-//wp-events-plugin.com//5.99912//EN
TZID:Europe/Berlin
X-WR-TIMEZONE:Europe/Berlin
BEGIN:VEVENT
UID:0-906@oberboihingen.albverein.eu
DTSTART;TZID=Europe/Berlin;VALUE=DATE:20260429
DTEND;TZID=Europe/Berlin;VALUE=DATE:20260430
DTSTAMP:20260412T144354Z
URL:https://oberboihingen.albverein.eu/events/senioren-siehe-gemeindeblatt
 -2/
SUMMARY:Senioren: Wanderung auf der Kuchalb
DESCRIPTION:Unsere Wanderung im Monat April führt uns auf die Stöttener A
 lb südlich von Donzdorf. Bei hoffentlich schönem Wetter können wir scho
 n bei der Fahrt von Donzdorf den Blick auf die herrliche Landschaft genie
 ßen. Die längere Strecke führt die Wanderer vom Parkplatz beim Flughafe
 n Donzdorf auf gut befestigten Wegen mit schönem Ausblick über Oberwecke
 r-Stell und Immenreute zum Weiler Kuchalb. Die Strecke ist knapp 5 km lang
  mit einem Höhenunterschied von ca. 50 m\, Gehzeit ca. 1\,5 Stunden. Die 
 kleine Wanderung führt einen asphaltierten Weg entlang ohne großen Höhe
 nunterschied und ist ca. 2 km lang. Gehzeit ca. 45 Minuten. Wir empfehlen 
 Schuhe mit Profilsohle und evtl. eine Kopfbedeckung als Sonnenschutz. Zum 
 Abschluss des Ausflugs ist eine Einkehr in der Gaststätte „Kuchalb Fran
 zl“ vorgesehen. Neue Wanderfreunde und Gäste sind herzlich willkommen. 
 Albvereinsmitglieder sind während des Ausflugs versichert.\n\nBusabfahrts
 zeiten: Änderung Haltestellen möglich\n\nSportplatz           13:00
  Uhr\n\nKreissparkasse   13:05 Uhr\n\nAnmeldungen bitte bis Samstag\, 25
 .4.2026 bei Wolfgang Stöcker\, Tel. 07022/61671.\n\nBei Abmeldung nach de
 m Stichtag fällt eine Kostenbeteiligung von 10 € an.\n\nAuf rege Beteil
 igung freuen sich Klaus Merkle und Dieter Körner.
END:VEVENT
BEGIN:VTIMEZONE
TZID:Europe/Berlin
X-LIC-LOCATION:Europe/Berlin
BEGIN:DAYLIGHT
DTSTART:20260329T030000
TZOFFSETFROM:+0100
TZOFFSETTO:+0200
TZNAME:CEST
END:DAYLIGHT
END:VTIMEZONE
END:VCALENDAR