BEGIN:VCALENDAR
VERSION:2.0
PRODID:-//wp-events-plugin.com//5.99912//EN
TZID:Europe/Berlin
X-WR-TIMEZONE:Europe/Berlin
BEGIN:VEVENT
UID:0-921@oberboihingen.albverein.eu
DTSTART;TZID=Europe/Berlin;VALUE=DATE:20260719
DTEND;TZID=Europe/Berlin;VALUE=DATE:20260720
DTSTAMP:20251229T171054Z
URL:https://oberboihingen.albverein.eu/events/rundwanderung-bei-heroldstat
 t/
SUMMARY:Rundwanderung bei Heroldstatt
DESCRIPTION:mit Besichtigung der Sontheimer Höhle (10 km / 250 hm / 3 h)\n
 Wanderführer: Andrea und Gerhard Gebauer (07022 47213)
END:VEVENT
BEGIN:VTIMEZONE
TZID:Europe/Berlin
X-LIC-LOCATION:Europe/Berlin
BEGIN:DAYLIGHT
DTSTART:20260329T030000
TZOFFSETFROM:+0100
TZOFFSETTO:+0200
TZNAME:CEST
END:DAYLIGHT
END:VTIMEZONE
END:VCALENDAR