BEGIN:VCALENDAR
VERSION:2.0
PRODID:-//wp-events-plugin.com//5.99912//EN
TZID:Europe/Berlin
X-WR-TIMEZONE:Europe/Berlin
BEGIN:VEVENT
UID:0-917@oberboihingen.albverein.eu
DTSTART;TZID=Europe/Berlin;VALUE=DATE:20260627
DTEND;TZID=Europe/Berlin;VALUE=DATE:20260628
DTSTAMP:20251229T170935Z
URL:https://oberboihingen.albverein.eu/events/offenes-singen-uns-locken-di
 e-sonnigen-tage/
SUMMARY:Offenes Singen "Uns locken die sonnigen Tage"
DESCRIPTION:Für Sänger und Instrumentalisten. Wenn vorhanden\, bitte "Tal
 ibu"\nmitbringen. Beginn 19:30 Uhr.\nInfos bei Peter Fischer (07022 62268)
  und\nHannelore Haußmann (07022 61781)
END:VEVENT
BEGIN:VTIMEZONE
TZID:Europe/Berlin
X-LIC-LOCATION:Europe/Berlin
BEGIN:DAYLIGHT
DTSTART:20260329T030000
TZOFFSETFROM:+0100
TZOFFSETTO:+0200
TZNAME:CEST
END:DAYLIGHT
END:VTIMEZONE
END:VCALENDAR