BEGIN:VCALENDAR
VERSION:2.0
PRODID:-//wp-events-plugin.com//5.99912//EN
TZID:Europe/Berlin
X-WR-TIMEZONE:Europe/Berlin
BEGIN:VEVENT
UID:0-915@oberboihingen.albverein.eu
DTSTART;TZID=Europe/Berlin;VALUE=DATE:20260621
DTEND;TZID=Europe/Berlin;VALUE=DATE:20260622
DTSTAMP:20251231T154342Z
URL:https://oberboihingen.albverein.eu/events/mit-zacke-zum-fernsehturm/
SUMMARY:Familiengruppe: Mit der Zacke zum Fernsehturm
DESCRIPTION:Organisation: Saskia Schmid (07024 8036070)
END:VEVENT
BEGIN:VTIMEZONE
TZID:Europe/Berlin
X-LIC-LOCATION:Europe/Berlin
BEGIN:DAYLIGHT
DTSTART:20260329T030000
TZOFFSETFROM:+0100
TZOFFSETTO:+0200
TZNAME:CEST
END:DAYLIGHT
END:VTIMEZONE
END:VCALENDAR