BEGIN:VCALENDAR
VERSION:2.0
PRODID:-//wp-events-plugin.com//5.99912//EN
TZID:Europe/Berlin
X-WR-TIMEZONE:Europe/Berlin
BEGIN:VEVENT
UID:0-918@oberboihingen.albverein.eu
DTSTART;TZID=Europe/Berlin;VALUE=DATE:20260705
DTEND;TZID=Europe/Berlin;VALUE=DATE:20260706
DTSTAMP:20251229T170957Z
URL:https://oberboihingen.albverein.eu/events/landschaftspark-schloss-fils
 eck/
SUMMARY:Landschaftspark Schloss Filseck
DESCRIPTION:(10 km / 85 hm / 2 ½ Std.)\nWanderführer: Gudrun und Peter Kl
 einknecht (07022 67695)
END:VEVENT
BEGIN:VTIMEZONE
TZID:Europe/Berlin
X-LIC-LOCATION:Europe/Berlin
BEGIN:DAYLIGHT
DTSTART:20260329T030000
TZOFFSETFROM:+0100
TZOFFSETTO:+0200
TZNAME:CEST
END:DAYLIGHT
END:VTIMEZONE
END:VCALENDAR