BEGIN:VCALENDAR
VERSION:2.0
PRODID:-//wp-events-plugin.com//5.99912//EN
TZID:Europe/Berlin
X-WR-TIMEZONE:Europe/Berlin
BEGIN:VEVENT
UID:0-907@oberboihingen.albverein.eu
DTSTART;TZID=Europe/Berlin;VALUE=DATE:20260510
DTEND;TZID=Europe/Berlin;VALUE=DATE:20260511
DTSTAMP:20251229T170420Z
URL:https://oberboihingen.albverein.eu/events/halbtagswanderung-neuffener-
 heide/
SUMMARY:Halbtagswanderung "Neuffener Heide"
DESCRIPTION:(6 km / 100 hm / Hin- und Rückfahrt mit PKW)\nWanderführer Ha
 nnelore und Richard Haußmann (07022 61781)
END:VEVENT
BEGIN:VTIMEZONE
TZID:Europe/Berlin
X-LIC-LOCATION:Europe/Berlin
BEGIN:DAYLIGHT
DTSTART:20260329T030000
TZOFFSETFROM:+0100
TZOFFSETTO:+0200
TZNAME:CEST
END:DAYLIGHT
END:VTIMEZONE
END:VCALENDAR