BEGIN:VCALENDAR
VERSION:2.0
PRODID:-//wp-events-plugin.com//5.99912//EN
TZID:Europe/Berlin
X-WR-TIMEZONE:Europe/Berlin
BEGIN:VEVENT
UID:0-934@oberboihingen.albverein.eu
DTSTART;TZID=Europe/Berlin;VALUE=DATE:20260927
DTEND;TZID=Europe/Berlin;VALUE=DATE:20260928
DTSTAMP:20251229T172002Z
URL:https://oberboihingen.albverein.eu/events/familiengruppe-unterwegs-auf
 -den-spuren-des-rulamans/
SUMMARY:Familiengruppe: Unterwegs auf den Spuren des Rulamans
DESCRIPTION:Organisation: Saskia Schmid (07024 8036070)
END:VEVENT
BEGIN:VTIMEZONE
TZID:Europe/Berlin
X-LIC-LOCATION:Europe/Berlin
BEGIN:DAYLIGHT
DTSTART:20260329T030000
TZOFFSETFROM:+0100
TZOFFSETTO:+0200
TZNAME:CEST
END:DAYLIGHT
END:VTIMEZONE
END:VCALENDAR