BEGIN:VCALENDAR
VERSION:2.0
PRODID:-//wp-events-plugin.com//5.99912//EN
TZID:Europe/Berlin
X-WR-TIMEZONE:Europe/Berlin
BEGIN:VEVENT
UID:0-939@oberboihingen.albverein.eu
DTSTART;TZID=Europe/Berlin;VALUE=DATE:20261025
DTEND;TZID=Europe/Berlin;VALUE=DATE:20261026
DTSTAMP:20251229T172158Z
URL:https://oberboihingen.albverein.eu/events/familiengruppe-kuerbisschnit
 zen-am-av-heim/
SUMMARY:Familiengruppe: Kürbisschnitzen am AV-Heim
DESCRIPTION:Organisation: Petra Vogel (07022 4780241)
LOCATION:Albvereinsheim Oberboihingen\, Rosenstr. 46\, Oberboihingen\, 7264
 4\, Deutschland
GEO:48.654142;9.370309200000065
X-APPLE-STRUCTURED-LOCATION;VALUE=URI;X-ADDRESS=Rosenstr. 46\, Oberboihinge
 n\, 72644\, Deutschland;X-APPLE-RADIUS=100;X-TITLE=Albvereinsheim Oberboih
 ingen:geo:48.654142,9.370309200000065
END:VEVENT
BEGIN:VTIMEZONE
TZID:Europe/Berlin
X-LIC-LOCATION:Europe/Berlin
BEGIN:DAYLIGHT
DTSTART:20260329T030000
TZOFFSETFROM:+0100
TZOFFSETTO:+0200
TZNAME:CEST
END:DAYLIGHT
BEGIN:STANDARD
DTSTART:20261025T020000
TZOFFSETFROM:+0200
TZOFFSETTO:+0100
TZNAME:CET
END:STANDARD
END:VTIMEZONE
END:VCALENDAR