BEGIN:VCALENDAR
VERSION:2.0
PRODID:-//wp-events-plugin.com//5.99912//EN
TZID:Europe/Berlin
X-WR-TIMEZONE:Europe/Berlin
BEGIN:VEVENT
UID:0-903@oberboihingen.albverein.eu
DTSTART;TZID=Europe/Berlin;VALUE=DATE:20260426
DTEND;TZID=Europe/Berlin;VALUE=DATE:20260427
DTSTAMP:20260421T113509Z
URL:https://oberboihingen.albverein.eu/events/familiengruppe-kreativ-im-wa
 ld/
SUMMARY:Familiengruppe: Kreativ im Wald
DESCRIPTION:\n\n\nDie Natur ist eine riesengroße Fundgrube und auf unserem
  Spaziergang (ca. 2km) durch Feld\, Wiese und Wald sammeln wir verschieden
 e Naturmaterialien mit denen wir anschließend gemeinsam kreativ werden.\n
 \nFreut euch auf einen geselligen Nachmittag mit Spiel- und Bastelspaß im
  Wendlinger Wald!\n\nTreffpunkt: Sonntag\, 26.04.2026 um 14 Uhr am Parkpla
 tz Waldspitz in Wendlingen (Unterboihingen)\n\nBitte denkt an wetterangepa
 sste Kleidung\, eine Tasche oder Eimer für die Fundstücke\, Getränke un
 d eine Kleinigkeit fürs Snackbuffet zwischendurch.\n\nAnmeldung bis 25.04
 .2026 bei Saskia Schmid (Tel. 07024/8036070)\n\nWir freuen uns auf euch\, 
 Petra und Saskia\n\n\n
END:VEVENT
BEGIN:VTIMEZONE
TZID:Europe/Berlin
X-LIC-LOCATION:Europe/Berlin
BEGIN:DAYLIGHT
DTSTART:20260329T030000
TZOFFSETFROM:+0100
TZOFFSETTO:+0200
TZNAME:CEST
END:DAYLIGHT
END:VTIMEZONE
END:VCALENDAR