BEGIN:VCALENDAR
VERSION:2.0
PRODID:-//wp-events-plugin.com//5.99912//EN
TZID:Europe/Berlin
X-WR-TIMEZONE:Europe/Berlin
BEGIN:VEVENT
UID:0-938@oberboihingen.albverein.eu
DTSTART;TZID=Europe/Berlin;VALUE=DATE:20261016
DTEND;TZID=Europe/Berlin;VALUE=DATE:20261017
DTSTAMP:20251231T154632Z
URL:https://oberboihingen.albverein.eu/events/erstellung-des-wander-und-ve
 ranstaltungsplans-2027-im-avheim/
SUMMARY:Erstellung des Wander- und Veranstaltungsplans 2027 im AV-Heim
DESCRIPTION:Organisation: Stefano Martella (0171 5116491)
LOCATION:Albvereinsheim Oberboihingen\, Rosenstr. 46\, Oberboihingen\, 7264
 4\, Deutschland
GEO:48.654142;9.370309200000065
X-APPLE-STRUCTURED-LOCATION;VALUE=URI;X-ADDRESS=Rosenstr. 46\, Oberboihinge
 n\, 72644\, Deutschland;X-APPLE-RADIUS=100;X-TITLE=Albvereinsheim Oberboih
 ingen:geo:48.654142,9.370309200000065
END:VEVENT
BEGIN:VTIMEZONE
TZID:Europe/Berlin
X-LIC-LOCATION:Europe/Berlin
BEGIN:DAYLIGHT
DTSTART:20260329T030000
TZOFFSETFROM:+0100
TZOFFSETTO:+0200
TZNAME:CEST
END:DAYLIGHT
END:VTIMEZONE
END:VCALENDAR