BEGIN:VCALENDAR
VERSION:2.0
PRODID:-//wp-events-plugin.com//5.99912//EN
TZID:Europe/Berlin
X-WR-TIMEZONE:Europe/Berlin
BEGIN:VEVENT
UID:0-931@oberboihingen.albverein.eu
DTSTART;TZID=Europe/Berlin;VALUE=DATE:20260917
DTEND;TZID=Europe/Berlin;VALUE=DATE:20260918
DTSTAMP:20251229T171643Z
URL:https://oberboihingen.albverein.eu/events/einteilung-des-bewirtschafte
 r-dienstes-des-av-heims-14/
SUMMARY:Einteilung des Bewirtschafter-Dienstes des AV-Heims
DESCRIPTION:Neue Mithelfer sind herzlich willkommen\nInfo bei Jörg Haußma
 nn (07022 63857)
END:VEVENT
BEGIN:VTIMEZONE
TZID:Europe/Berlin
X-LIC-LOCATION:Europe/Berlin
BEGIN:DAYLIGHT
DTSTART:20260329T030000
TZOFFSETFROM:+0100
TZOFFSETTO:+0200
TZNAME:CEST
END:DAYLIGHT
END:VTIMEZONE
END:VCALENDAR