BEGIN:VCALENDAR
VERSION:2.0
PRODID:-//wp-events-plugin.com//5.99912//EN
TZID:Europe/Berlin
X-WR-TIMEZONE:Europe/Berlin
BEGIN:VEVENT
UID:0-904@oberboihingen.albverein.eu
DTSTART;TZID=Europe/Berlin;VALUE=DATE:20260425
DTEND;TZID=Europe/Berlin;VALUE=DATE:20260426
DTSTAMP:20260417T061308Z
URL:https://oberboihingen.albverein.eu/events/aufstellung-des-maibaums-auf
 -dem-dorfplatz-10/
SUMMARY:Aufstellung des Maibaums auf dem Dorfplatz
DESCRIPTION:Am Samstag\, 25. April findet um 14.30 Uhr auf dem die Maibauma
 ufstellung statt. Traditionell stellt die Jugend des Schwäbischen Albvere
 ins den Baum von Hand\, mit Muskelkraft und Stangen auf. Der Musikverein O
 berboihingen spielt ab etwa 15.30 Uhr zur Unterhaltung und die Jugend sorg
 t für das leibliche Wohl u.a. mit Bier vom Fass\, Steak\, Rote Wurst und 
 Pommes. Veranstalter sind der Gewerbeverein Oberboihingen und der Schwäbi
 sche Albverein Oberboihingen.\n\n\n[caption id="attachment_6508" align="al
 ignnone" width="495"] Maibaumaufstellung 2026[/caption]\n\n&nbsp\;\n\n
LOCATION:Dorfplatz Oberboihingen\, Rathaus\, Oberboihingen\, Deutschland
GEO:48.64717839999999;9.365982300000042
X-APPLE-STRUCTURED-LOCATION;VALUE=URI;X-ADDRESS=Rathaus\, Oberboihingen\, D
 eutschland;X-APPLE-RADIUS=100;X-TITLE=Dorfplatz Oberboihingen:geo:48.64717
 839999999,9.365982300000042
END:VEVENT
BEGIN:VTIMEZONE
TZID:Europe/Berlin
X-LIC-LOCATION:Europe/Berlin
BEGIN:DAYLIGHT
DTSTART:20260329T030000
TZOFFSETFROM:+0100
TZOFFSETTO:+0200
TZNAME:CEST
END:DAYLIGHT
END:VTIMEZONE
END:VCALENDAR