BEGIN:VCALENDAR
VERSION:2.0
PRODID:-//wp-events-plugin.com//5.99912//EN
TZID:Europe/Berlin
X-WR-TIMEZONE:Europe/Berlin
BEGIN:VEVENT
UID:0-905@oberboihingen.albverein.eu
DTSTART;TZID=Europe/Berlin;VALUE=DATE:20260426
DTEND;TZID=Europe/Berlin;VALUE=DATE:20260427
DTSTAMP:20260421T113451Z
URL:https://oberboihingen.albverein.eu/events/altenriet-geschichte-und-sag
 en/
SUMMARY:"Altenriet\, Geschichte und Sagen"
DESCRIPTION:Am  Sonntag\, 26. April  lädt der Schwäbische Albverein zu 
 einer Wanderung bei Altenriet herzlich ein. Treffpunkt ist 9.30 Uhr zur Bi
 ldung von Fahrgemeinschaften am Parkplatz „Alte Schule“ (Schulstraße 
 2) in Oberboihingen.\n\nAuf dem Weg liegen Naturdenkmäler und Aussichtspu
 nkte (die Alb von der Achalm bis zu den Kaiserbergen bei Göppingen).\nUnt
 erwegs und bei der Einkehr erfolgen Ausführungen zur Geschichte von Alten
 riet\, zu den örtlichen Gegebenheiten und um die Sagen der Entstehung der
  Brezel und des Brezelmarktes.\n\nUm die Mittagszeit ist eine Einkehr mit 
 Brezel und Weißwurst in „Küfer’s Brennstub“ (Kostenbeitrag + Anmel
 dung erforderlich) geplant.\n\nDie Wegstrecke beträgt ca. 8\,5 km (ca. 13
 0 Hm)\, reine Gehzeit insges. ca. 2\,5 Std.\n\nDie Rückkehr erfolgt gegen
  17 Uhr.\n\nWanderführer Richard Weiß freut sich auf zahlreiche Mitwande
 rer.\n\nE-Mail: Tel.: 0 70 22 - 6 59 74
END:VEVENT
BEGIN:VTIMEZONE
TZID:Europe/Berlin
X-LIC-LOCATION:Europe/Berlin
BEGIN:DAYLIGHT
DTSTART:20260329T030000
TZOFFSETFROM:+0100
TZOFFSETTO:+0200
TZNAME:CEST
END:DAYLIGHT
END:VTIMEZONE
END:VCALENDAR