BEGIN:VCALENDAR
VERSION:2.0
PRODID:-//wp-events-plugin.com//5.99912//EN
TZID:Europe/Berlin
X-WR-TIMEZONE:Europe/Berlin
BEGIN:VEVENT
UID:0-933@oberboihingen.albverein.eu
DTSTART;TZID=Europe/Berlin;VALUE=DATE:20260927
DTEND;TZID=Europe/Berlin;VALUE=DATE:20260928
DTSTAMP:20251229T171931Z
URL:https://oberboihingen.albverein.eu/events/albvereinstag-auf-dem-cannst
 atter-wasen/
SUMMARY:Albvereinstag auf dem Cannstatter Wasen
DESCRIPTION:
LOCATION:Canstatter Volksfest\, Wasen\, Bad Canstatt\, Deutschland
GEO:48.7920293;9.224476299999992
X-APPLE-STRUCTURED-LOCATION;VALUE=URI;X-ADDRESS=Wasen\, Bad Canstatt\, Deut
 schland;X-APPLE-RADIUS=100;X-TITLE=Canstatter Volksfest:geo:48.7920293,9.2
 24476299999992
END:VEVENT
BEGIN:VTIMEZONE
TZID:Europe/Berlin
X-LIC-LOCATION:Europe/Berlin
BEGIN:DAYLIGHT
DTSTART:20260329T030000
TZOFFSETFROM:+0100
TZOFFSETTO:+0200
TZNAME:CEST
END:DAYLIGHT
END:VTIMEZONE
END:VCALENDAR